BEGIN:VCALENDAR
VERSION:2.0
PRODID:-//Shell Lake Arts Center - ECPv6.15.20//NONSGML v1.0//EN
CALSCALE:GREGORIAN
METHOD:PUBLISH
X-WR-CALNAME:Shell Lake Arts Center
X-ORIGINAL-URL:https://shelllakeartscenter.org
X-WR-CALDESC:Events for Shell Lake Arts Center
REFRESH-INTERVAL;VALUE=DURATION:PT1H
X-Robots-Tag:noindex
X-PUBLISHED-TTL:PT1H
BEGIN:VTIMEZONE
TZID:America/Chicago
BEGIN:DAYLIGHT
TZOFFSETFROM:-0600
TZOFFSETTO:-0500
TZNAME:CDT
DTSTART:20240310T080000
END:DAYLIGHT
BEGIN:STANDARD
TZOFFSETFROM:-0500
TZOFFSETTO:-0600
TZNAME:CST
DTSTART:20241103T070000
END:STANDARD
BEGIN:DAYLIGHT
TZOFFSETFROM:-0600
TZOFFSETTO:-0500
TZNAME:CDT
DTSTART:20250309T080000
END:DAYLIGHT
BEGIN:STANDARD
TZOFFSETFROM:-0500
TZOFFSETTO:-0600
TZNAME:CST
DTSTART:20251102T070000
END:STANDARD
BEGIN:DAYLIGHT
TZOFFSETFROM:-0600
TZOFFSETTO:-0500
TZNAME:CDT
DTSTART:20260308T080000
END:DAYLIGHT
BEGIN:STANDARD
TZOFFSETFROM:-0500
TZOFFSETTO:-0600
TZNAME:CST
DTSTART:20261101T070000
END:STANDARD
END:VTIMEZONE
BEGIN:VEVENT
DTSTART;TZID=America/Chicago:20251014T100000
DTEND;TZID=America/Chicago:20251014T120000
DTSTAMP:20260419T222455
CREATED:20250906T145134Z
LAST-MODIFIED:20250906T150134Z
UID:10000143-1760436000-1760443200@shelllakeartscenter.org
SUMMARY:Northern Lights Choir - Rehearsal
DESCRIPTION:
URL:https://shelllakeartscenter.org/event/northern-lights-choir-rehearsal-7/2025-10-14/
LOCATION:Erika Quam Memorial Theatre\, 605 1st St.\, Shell Lake\, WI\, 54871\, United States
CATEGORIES:Community Event
END:VEVENT
BEGIN:VEVENT
DTSTART;TZID=America/Chicago:20251010T190000
DTEND;TZID=America/Chicago:20251010T210000
DTSTAMP:20260419T222455
CREATED:20250214T222049Z
LAST-MODIFIED:20251010T113719Z
UID:10000072-1760122800-1760130000@shelllakeartscenter.org
SUMMARY:Peter Mayer Concert
DESCRIPTION:“Mayer offers up everything you could ever want from a singer/songwriter.”–Dirty Linen Magazine\n\nMinnesota’s Peter Mayer has been singing and songwriting full-time for 30 years\, performing in venues across the United States and beyond. He writes songs for a small planet–songs about interconnectedness and the human journey–songs about life on earth and the mysterious and wondrous fact of our existence. He also writes songs about dress hats\, pumpkins and pajamas\, and other important stuff. His music has been performed by artists like Kathy Mattea\, David Wilcox\, Claudia Schmidt\, Anne Hills\, Priscilla Herdman\, Darryl Purpose\, Billy Jonas\, and Ronny Cox\, to name a few. His work has been included in song books\, church hymnals\, and folk radio playlists across the country. He is the recipient of fellowships from both the McKnight and the Bush foundations. Peter has eleven albums to his credit\, and has sold over 100\,000 of them. He lives in Stillwater\, Minnesota with his wife and two daughters.\n\nhttps://www.petermayer.net/about\n\nhttps://www.facebook.com/people/Peter-Mayer/100030170498900/
URL:https://shelllakeartscenter.org/event/peter-mayer-concert/
LOCATION:Erika Quam Memorial Theatre\, 605 1st St.\, Shell Lake\, WI\, 54871\, United States
CATEGORIES:Community Event
ATTACH;FMTTYPE=image/png:https://shelllakeartscenter.org/wp-content/uploads/2025/02/Screenshot-2025-02-14-at-4.18.20 PM.png
END:VEVENT
BEGIN:VEVENT
DTSTART;TZID=America/Chicago:20251007T100000
DTEND;TZID=America/Chicago:20251007T120000
DTSTAMP:20260419T222455
CREATED:20250906T145104Z
LAST-MODIFIED:20250906T145626Z
UID:10000140-1759831200-1759838400@shelllakeartscenter.org
SUMMARY:Northern Lights Choir - Rehearsal
DESCRIPTION:
URL:https://shelllakeartscenter.org/event/northern-lights-choir-rehearsal-6/
LOCATION:Erika Quam Memorial Theatre\, 605 1st St.\, Shell Lake\, WI\, 54871\, United States
CATEGORIES:Community Event
END:VEVENT
BEGIN:VEVENT
DTSTART;TZID=America/Chicago:20250930T100000
DTEND;TZID=America/Chicago:20250930T120000
DTSTAMP:20260419T222455
CREATED:20250829T192400Z
LAST-MODIFIED:20250829T192400Z
UID:10000138-1759226400-1759233600@shelllakeartscenter.org
SUMMARY:Northern Lights Choir - Rehearsal
DESCRIPTION:
URL:https://shelllakeartscenter.org/event/northern-lights-choir-rehearsal-4/
LOCATION:Erika Quam Memorial Theatre\, 605 1st St.\, Shell Lake\, WI\, 54871\, United States
CATEGORIES:Community Event
END:VEVENT
BEGIN:VEVENT
DTSTART;TZID=America/Chicago:20250923T100000
DTEND;TZID=America/Chicago:20250923T120000
DTSTAMP:20260419T222455
CREATED:20250829T192334Z
LAST-MODIFIED:20250829T192334Z
UID:10000137-1758621600-1758628800@shelllakeartscenter.org
SUMMARY:Northern Lights Choir - Rehearsal
DESCRIPTION:
URL:https://shelllakeartscenter.org/event/northern-lights-choir-rehearsal-3/
LOCATION:Erika Quam Memorial Theatre\, 605 1st St.\, Shell Lake\, WI\, 54871\, United States
CATEGORIES:Community Event
END:VEVENT
BEGIN:VEVENT
DTSTART;TZID=America/Chicago:20250916T100000
DTEND;TZID=America/Chicago:20250916T120000
DTSTAMP:20260419T222455
CREATED:20250829T192303Z
LAST-MODIFIED:20250829T192303Z
UID:10000136-1758016800-1758024000@shelllakeartscenter.org
SUMMARY:Northern Lights Choir - Rehearsal
DESCRIPTION:
URL:https://shelllakeartscenter.org/event/northern-lights-choir-rehearsal-2/
LOCATION:Erika Quam Memorial Theatre\, 605 1st St.\, Shell Lake\, WI\, 54871\, United States
CATEGORIES:Community Event
END:VEVENT
BEGIN:VEVENT
DTSTART;TZID=America/Chicago:20250909T100000
DTEND;TZID=America/Chicago:20250909T120000
DTSTAMP:20260419T222455
CREATED:20250829T191826Z
LAST-MODIFIED:20250829T192219Z
UID:10000135-1757412000-1757419200@shelllakeartscenter.org
SUMMARY:Northern Lights Choir - Rehearsal
DESCRIPTION:
URL:https://shelllakeartscenter.org/event/northern-lights-choir-rehearsal/
LOCATION:Erika Quam Memorial Theatre\, 605 1st St.\, Shell Lake\, WI\, 54871\, United States
CATEGORIES:Community Event
END:VEVENT
BEGIN:VEVENT
DTSTART;TZID=America/Chicago:20250811T100000
DTEND;TZID=America/Chicago:20250813T143000
DTSTAMP:20260419T222455
CREATED:20250714T141127Z
LAST-MODIFIED:20250810T193658Z
UID:10000116-1754906400-1755095400@shelllakeartscenter.org
SUMMARY:Total Hoops Academy - 3 Day Clinic
DESCRIPTION:David Swan’s Total Hoops Academy is hosting a special 3-day clinic for players of all ages. The camp will center on offensive development and the campers will also learn to best drills for them to work on in the off-season. \nSwan coached college basketball for four years in the US and for 7 years he led one of the top teams in Europe\, the Ulriken Eagles. Swan has a career winning percentage of over 80% and has tutored over 17\,000 players around the globe with his clinics and basketball camps \nSchedule: \n4th-8th Grade: 10 am – 12 pm \n9th-12th Grade: 12:30 pm – 2:30 pm \nAll proceeds go to the Shell Lake Arts Center.
URL:https://shelllakeartscenter.org/event/total-hoops-academy-3-day-clinic/
LOCATION:Shell Lake Arts Center\, 802 First Street\, Shell Lake\, WI\, 54740\, United States
CATEGORIES:Community Event
ATTACH;FMTTYPE=image/jpeg:https://shelllakeartscenter.org/wp-content/uploads/2025/07/IMG_1644.jpeg
END:VEVENT
BEGIN:VEVENT
DTSTART;TZID=America/Chicago:20250808T193000
DTEND;TZID=America/Chicago:20250808T210000
DTSTAMP:20260419T222455
CREATED:20250714T132052Z
LAST-MODIFIED:20250714T132052Z
UID:10000115-1754681400-1754686800@shelllakeartscenter.org
SUMMARY:Matt Lammers and the Northwood String Quartet
DESCRIPTION:This evening of classical chamber music is presented by a collaboration of Northwest Wisconsin’s most dynamic arts organization.
URL:https://shelllakeartscenter.org/event/matt-lammers-and-the-northwood-string-quartet/
LOCATION:Erika Quam Memorial Theatre\, 605 1st St.\, Shell Lake\, WI\, 54871\, United States
CATEGORIES:Community Event
END:VEVENT
BEGIN:VEVENT
DTSTART;TZID=America/Chicago:20250801T170000
DTEND;TZID=America/Chicago:20250801T180000
DTSTAMP:20260419T222455
CREATED:20250608T230239Z
LAST-MODIFIED:20250608T230239Z
UID:10000114-1754067600-1754071200@shelllakeartscenter.org
SUMMARY:Music Theatre Campers Showcase
DESCRIPTION:
URL:https://shelllakeartscenter.org/event/music-theatre-campers-showcase/
LOCATION:Darrell Aderman Auditorium\, 802 1st St\, Shell Lake\, WI\, 54871\, United States
CATEGORIES:Summer Camp
END:VEVENT
BEGIN:VEVENT
DTSTART;TZID=America/Chicago:20250801T140000
DTEND;TZID=America/Chicago:20250801T150000
DTSTAMP:20260419T222455
CREATED:20250608T230054Z
LAST-MODIFIED:20250608T230054Z
UID:10000113-1754056800-1754060400@shelllakeartscenter.org
SUMMARY:Painting and Drawing Campers Showcase
DESCRIPTION:
URL:https://shelllakeartscenter.org/event/painting-and-drawing-campers-showcase/
LOCATION:Darrell Aderman Auditorium\, 802 1st St\, Shell Lake\, WI\, 54871\, United States
CATEGORIES:Summer Camp
END:VEVENT
BEGIN:VEVENT
DTSTART;TZID=America/Chicago:20250725T170000
DTEND;TZID=America/Chicago:20250725T180000
DTSTAMP:20260419T222455
CREATED:20250608T225836Z
LAST-MODIFIED:20250608T225836Z
UID:10000112-1753462800-1753466400@shelllakeartscenter.org
SUMMARY:Show Choir Campers
DESCRIPTION:
URL:https://shelllakeartscenter.org/event/show-choir-campers/
LOCATION:Darrell Aderman Auditorium\, 802 1st St\, Shell Lake\, WI\, 54871\, United States
CATEGORIES:Summer Camp
END:VEVENT
BEGIN:VEVENT
DTSTART;TZID=America/Chicago:20250725T160000
DTEND;TZID=America/Chicago:20250725T170000
DTSTAMP:20260419T222455
CREATED:20250608T225729Z
LAST-MODIFIED:20250608T225729Z
UID:10000111-1753459200-1753462800@shelllakeartscenter.org
SUMMARY:Drumset Campers
DESCRIPTION:
URL:https://shelllakeartscenter.org/event/drumset-campers/
LOCATION:Erika Quam Memorial Theatre\, 605 1st St.\, Shell Lake\, WI\, 54871\, United States
CATEGORIES:Summer Camp
END:VEVENT
BEGIN:VEVENT
DTSTART;TZID=America/Chicago:20250725T140000
DTEND;TZID=America/Chicago:20250725T150000
DTSTAMP:20260419T222455
CREATED:20250608T225622Z
LAST-MODIFIED:20250608T225622Z
UID:10000110-1753452000-1753455600@shelllakeartscenter.org
SUMMARY:Guitar and Bass Campers
DESCRIPTION:
URL:https://shelllakeartscenter.org/event/guitar-and-bass-campers/
LOCATION:Erika Quam Memorial Theatre\, 605 1st St.\, Shell Lake\, WI\, 54871\, United States
CATEGORIES:Summer Camp
END:VEVENT
BEGIN:VEVENT
DTSTART;TZID=America/Chicago:20250724T180000
DTEND;TZID=America/Chicago:20250724T190000
DTSTAMP:20260419T222455
CREATED:20250608T225457Z
LAST-MODIFIED:20250608T225457Z
UID:10000109-1753380000-1753383600@shelllakeartscenter.org
SUMMARY:Show Choir Camper Showcase 25!
DESCRIPTION:
URL:https://shelllakeartscenter.org/event/show-choir-camper-showcase-25/
LOCATION:Lakefront Pavilion\, 228 Playground Dr\, Shell Lake\, 54871\, United States
CATEGORIES:Summer Camp
END:VEVENT
BEGIN:VEVENT
DTSTART;TZID=America/Chicago:20250722T190000
DTEND;TZID=America/Chicago:20250722T200000
DTSTAMP:20260419T222455
CREATED:20250608T225333Z
LAST-MODIFIED:20250619T203852Z
UID:10000108-1753210800-1753214400@shelllakeartscenter.org
SUMMARY:Guitar/Drumset Faculty
DESCRIPTION:
URL:https://shelllakeartscenter.org/event/guitar-drumset-faculty/
LOCATION:Darrell Aderman Auditorium\, 802 1st St\, Shell Lake\, WI\, 54871\, United States
CATEGORIES:Community Event,Summer Camp
END:VEVENT
BEGIN:VEVENT
DTSTART;TZID=America/Chicago:20250718T140000
DTEND;TZID=America/Chicago:20250718T150000
DTSTAMP:20260419T222455
CREATED:20250608T225225Z
LAST-MODIFIED:20250608T225225Z
UID:10000107-1752847200-1752850800@shelllakeartscenter.org
SUMMARY:Rock Band Campers
DESCRIPTION:
URL:https://shelllakeartscenter.org/event/rock-band-campers/
LOCATION:Lakefront Pavilion\, 228 Playground Dr\, Shell Lake\, 54871\, United States
CATEGORIES:Summer Camp
END:VEVENT
BEGIN:VEVENT
DTSTART;TZID=America/Chicago:20250714T190000
DTEND;TZID=America/Chicago:20250714T200000
DTSTAMP:20260419T222455
CREATED:20250608T225017Z
LAST-MODIFIED:20250619T203941Z
UID:10000106-1752519600-1752523200@shelllakeartscenter.org
SUMMARY:Rock Band Faculty Concert
DESCRIPTION:
URL:https://shelllakeartscenter.org/event/rock-band-faculty-concert/
LOCATION:Lakefront Pavilion\, 228 Playground Dr\, Shell Lake\, 54871\, United States
CATEGORIES:Community Event,Summer Camp
END:VEVENT
BEGIN:VEVENT
DTSTART;TZID=America/Chicago:20250711T170000
DTEND;TZID=America/Chicago:20250711T180000
DTSTAMP:20260419T222455
CREATED:20250608T224853Z
LAST-MODIFIED:20250608T224853Z
UID:10000105-1752253200-1752256800@shelllakeartscenter.org
SUMMARY:Concert Band Campers Final Concert
DESCRIPTION:
URL:https://shelllakeartscenter.org/event/concert-band-campers-final-concert/
LOCATION:Darrell Aderman Auditorium\, 802 1st St\, Shell Lake\, WI\, 54871\, United States
CATEGORIES:Summer Camp
END:VEVENT
BEGIN:VEVENT
DTSTART;TZID=America/Chicago:20250711T150000
DTEND;TZID=America/Chicago:20250711T160000
DTSTAMP:20260419T222455
CREATED:20250608T224629Z
LAST-MODIFIED:20250608T224629Z
UID:10000104-1752246000-1752249600@shelllakeartscenter.org
SUMMARY:Piano Camper Final Concert
DESCRIPTION:
URL:https://shelllakeartscenter.org/event/piano-camper-final-concert/
LOCATION:Erika Quam Memorial Theatre\, 605 1st St.\, Shell Lake\, WI\, 54871\, United States
CATEGORIES:Summer Camp
END:VEVENT
BEGIN:VEVENT
DTSTART;TZID=America/Chicago:20250711T130000
DTEND;TZID=America/Chicago:20250711T140000
DTSTAMP:20260419T222455
CREATED:20250608T224512Z
LAST-MODIFIED:20250608T224512Z
UID:10000103-1752238800-1752242400@shelllakeartscenter.org
SUMMARY:Concert Band Camper Chamber Groups
DESCRIPTION:
URL:https://shelllakeartscenter.org/event/concert-band-camper-chamber-groups/
LOCATION:Darrell Aderman Auditorium\, 802 1st St\, Shell Lake\, WI\, 54871\, United States
CATEGORIES:Summer Camp
END:VEVENT
BEGIN:VEVENT
DTSTART;TZID=America/Chicago:20250709T190000
DTEND;TZID=America/Chicago:20250709T200000
DTSTAMP:20260419T222455
CREATED:20250608T224318Z
LAST-MODIFIED:20250619T204000Z
UID:10000102-1752087600-1752091200@shelllakeartscenter.org
SUMMARY:Faculty Recital
DESCRIPTION:
URL:https://shelllakeartscenter.org/event/faculty-recital/
LOCATION:Darrell Aderman Auditorium\, 802 1st St\, Shell Lake\, WI\, 54871\, United States
CATEGORIES:Community Event,Summer Camp
END:VEVENT
BEGIN:VEVENT
DTSTART;TZID=America/Chicago:20250708T190000
DTEND;TZID=America/Chicago:20250708T200000
DTSTAMP:20260419T222455
CREATED:20250608T224115Z
LAST-MODIFIED:20250608T224115Z
UID:10000101-1752001200-1752004800@shelllakeartscenter.org
SUMMARY:Chamber Music Recital
DESCRIPTION:
URL:https://shelllakeartscenter.org/event/chamber-music-recital/
LOCATION:Darrell Aderman Auditorium\, 802 1st St\, Shell Lake\, WI\, 54871\, United States
CATEGORIES:Summer Camp
END:VEVENT
BEGIN:VEVENT
DTSTART;TZID=America/Chicago:20250707T190000
DTEND;TZID=America/Chicago:20250707T200000
DTSTAMP:20260419T222455
CREATED:20250608T223927Z
LAST-MODIFIED:20250619T204040Z
UID:10000100-1751914800-1751918400@shelllakeartscenter.org
SUMMARY:Community Band Concert in the Park
DESCRIPTION:
URL:https://shelllakeartscenter.org/event/community-band-concert-in-the-park/
LOCATION:Lakefront Pavilion\, 228 Playground Dr\, Shell Lake\, 54871\, United States
CATEGORIES:Community Event,Summer Camp
END:VEVENT
BEGIN:VEVENT
DTSTART;TZID=America/Chicago:20250704T160000
DTEND;TZID=America/Chicago:20250704T170000
DTSTAMP:20260419T222455
CREATED:20250608T223541Z
LAST-MODIFIED:20250608T223541Z
UID:10000098-1751644800-1751648400@shelllakeartscenter.org
SUMMARY:Singer/Songwriter Campers
DESCRIPTION:
URL:https://shelllakeartscenter.org/event/singer-songwriter-campers/
LOCATION:Erika Quam Memorial Theatre\, 605 1st St.\, Shell Lake\, WI\, 54871\, United States
CATEGORIES:Summer Camp
END:VEVENT
BEGIN:VEVENT
DTSTART;TZID=America/Chicago:20250704T150000
DTEND;TZID=America/Chicago:20250704T160000
DTSTAMP:20260419T222455
CREATED:20250608T223756Z
LAST-MODIFIED:20250608T223756Z
UID:10000099-1751641200-1751644800@shelllakeartscenter.org
SUMMARY:Jazz Combo Campers
DESCRIPTION:
URL:https://shelllakeartscenter.org/event/jazz-combo-campers/
LOCATION:Darrell Aderman Auditorium\, 802 1st St\, Shell Lake\, WI\, 54871\, United States
CATEGORIES:Summer Camp
END:VEVENT
BEGIN:VEVENT
DTSTART;TZID=America/Chicago:20250630T190000
DTEND;TZID=America/Chicago:20250630T200000
DTSTAMP:20260419T222455
CREATED:20250608T223404Z
LAST-MODIFIED:20250619T204053Z
UID:10000097-1751310000-1751313600@shelllakeartscenter.org
SUMMARY:Combo Faculty Concert In the Park
DESCRIPTION:
URL:https://shelllakeartscenter.org/event/combo-faculty-concert-in-the-park/
LOCATION:Lakefront Pavilion\, 228 Playground Dr\, Shell Lake\, 54871\, United States
CATEGORIES:Community Event,Summer Camp
END:VEVENT
BEGIN:VEVENT
DTSTART;TZID=America/Chicago:20250629T190000
DTEND;TZID=America/Chicago:20250629T200000
DTSTAMP:20260419T222455
CREATED:20250608T223243Z
LAST-MODIFIED:20250619T204105Z
UID:10000096-1751223600-1751227200@shelllakeartscenter.org
SUMMARY:Jazz Combo Faculty Concert
DESCRIPTION:
URL:https://shelllakeartscenter.org/event/jazz-combo-faculty-concert/
LOCATION:Darrell Aderman Auditorium\, 802 1st St\, Shell Lake\, WI\, 54871\, United States
CATEGORIES:Community Event,Summer Camp
END:VEVENT
BEGIN:VEVENT
DTSTART;TZID=America/Chicago:20250627T170000
DTEND;TZID=America/Chicago:20250627T180000
DTSTAMP:20260419T222455
CREATED:20250608T223052Z
LAST-MODIFIED:20250608T223052Z
UID:10000095-1751043600-1751047200@shelllakeartscenter.org
SUMMARY:Jazz Week 2 Campers
DESCRIPTION:
URL:https://shelllakeartscenter.org/event/jazz-week-2-campers/
LOCATION:Darrell Aderman Auditorium\, 802 1st St\, Shell Lake\, WI\, 54871\, United States
CATEGORIES:Summer Camp
END:VEVENT
BEGIN:VEVENT
DTSTART;TZID=America/Chicago:20250627T150000
DTEND;TZID=America/Chicago:20250627T160000
DTSTAMP:20260419T222455
CREATED:20250608T222953Z
LAST-MODIFIED:20250608T222953Z
UID:10000094-1751036400-1751040000@shelllakeartscenter.org
SUMMARY:Saxophone Workshop Campers
DESCRIPTION:
URL:https://shelllakeartscenter.org/event/saxophone-workshop-campers/
LOCATION:Darrell Aderman Auditorium\, 802 1st St\, Shell Lake\, WI\, 54871\, United States
CATEGORIES:Summer Camp
END:VEVENT
END:VCALENDAR